data_image0
_chemical_formula_structural       MgCl2
_chemical_formula_sum              "Mg1 Cl2"
_cell_length_a       4.392688257912774
_cell_length_b       4.42410368430521
_cell_length_c       7.779694562167739
_cell_angle_alpha    90.0
_cell_angle_beta     89.99999999999999
_cell_angle_gamma    114.62365180535676

_space_group_name_H-M_alt    "P 1"
_space_group_IT_number       1

loop_
  _space_group_symop_operation_xyz
  'x, y, z'

loop_
  _atom_site_type_symbol
  _atom_site_label
  _atom_site_symmetry_multiplicity
  _atom_site_fract_x
  _atom_site_fract_y
  _atom_site_fract_z
  _atom_site_occupancy
  Mg  Mg1       1.0  0.0  0.0  0.0  1.0000
  Cl  Cl1       1.0  0.33333333333333337  0.666666666666667  0.025422206477242908  1.0000
  Cl  Cl2       1.0  0.6666666666666666  0.3333333333333334  0.9745777935306668  1.0000
